BEGIN:VCALENDAR
VERSION:2.0
PRODID:-//Plone.org//NONSGML plone.app.event//EN
X-WR-TIMEZONE:Europe/Madrid
BEGIN:VEVENT
SUMMARY:Taller de cuina. Plats freds
DTSTART;TZID=Europe/Madrid;VALUE=DATE-TIME:20220511T173000
DTEND;TZID=Europe/Madrid;VALUE=DATE-TIME:20220511T183000
DTSTAMP;VALUE=DATE-TIME:20260423T231713Z
UID:8dec9f3d4ebe7d778bdd9f5ec2a812b4
CREATED;VALUE=DATE-TIME:20220511T000000Z
CATEGORIES:Vi i gastronomia
LOCATION:Centre Cultural de Can Lleonart - Plaça dels Germans Lleonart, 1 08328 Alella
ORGANIZER:Ajuntament d'Alella
COMMENT:Preu: 20&euro;
Durada: 2 hores
URL:https://www.mynerva.net/ajalella/document.php?id=16957
END:VEVENT
END:VCALENDAR