BEGIN:VCALENDAR
VERSION:2.0
PRODID:-//Plone.org//NONSGML plone.app.event//EN
X-WR-TIMEZONE:Europe/Madrid
BEGIN:VEVENT
SUMMARY:Cicle Gaudí. Cinema. Libertad
DTSTART;TZID=Europe/Madrid;VALUE=DATE-TIME:20220531T190000
DTEND;TZID=Europe/Madrid;VALUE=DATE-TIME:20220531T200000
DTSTAMP;VALUE=DATE-TIME:20260423T150236Z
UID:bdd32e6b026345287b40dc1be86e7624
CREATED;VALUE=DATE-TIME:20220531T000000Z
CATEGORIES:Cinema
LOCATION:Espai d'arts escèniques Casal d'Alella - Carrer de Santa Teresa, 9 08328 Alella
ORGANIZER:Ajuntament d'Alella
DESCRIPTION:Libertad
URL:https://www.mynerva.net/ajalella/document.php?id=17000
END:VEVENT
END:VCALENDAR