BEGIN:VCALENDAR
VERSION:2.0
PRODID:-//Plone.org//NONSGML plone.app.event//EN
X-WR-TIMEZONE:Europe/Madrid
BEGIN:VEVENT
SUMMARY:Tertúlia amb Joan Vives: Els cantants castrats, esplendor i decadència
DTSTART;TZID=Europe/Madrid;VALUE=DATE-TIME:20220512T190000
DTEND;TZID=Europe/Madrid;VALUE=DATE-TIME:20220512T200000
DTSTAMP;VALUE=DATE-TIME:20260423T213644Z
UID:cf3e51bbb68634a069f183b8f726178b
CREATED;VALUE=DATE-TIME:20220512T000000Z
CATEGORIES:Música,Tertúlies
LOCATION:Centre Cultural de Can Lleonart - Plaça dels Germans Lleonart, 1 08328 Alella
ORGANIZER:Ajuntament d'Alella
COMMENT:Preu: Gratuït
URL:https://www.mynerva.net/ajalella/document.php?id=17033
END:VEVENT
END:VCALENDAR