BEGIN:VCALENDAR
VERSION:2.0
PRODID:-//Plone.org//NONSGML plone.app.event//EN
X-WR-TIMEZONE:Europe/Madrid
BEGIN:VEVENT
SUMMARY:Tertúlia. "L'Hora de Mari Pau Huguet", revisió d'una trajectòria televisiva
DTSTART;TZID=Europe/Madrid;VALUE=DATE-TIME:20220519T190000
DTEND;TZID=Europe/Madrid;VALUE=DATE-TIME:20220519T200000
DTSTAMP;VALUE=DATE-TIME:20260424T005230Z
UID:f2c10a046b03540830df960526dc97d3
CREATED;VALUE=DATE-TIME:20220519T000000Z
CATEGORIES:Tertúlies
LOCATION:Centre Cultural de Can Lleonart - Plaça dels Germans Lleonart, 1 08328 Alella
ORGANIZER:Ajuntament d'Alella
COMMENT:Preu: Gratuït
URL:https://www.mynerva.net/ajalella/document.php?id=17034
END:VEVENT
END:VCALENDAR