BEGIN:VCALENDAR
VERSION:2.0
PRODID:-//Plone.org//NONSGML plone.app.event//EN
X-WR-TIMEZONE:Europe/Madrid
BEGIN:VEVENT
SUMMARY:Sortida: Rupit i el seu entorn
DTSTART;TZID=Europe/Madrid;VALUE=DATE-TIME:20220518T073000
DTEND;TZID=Europe/Madrid;VALUE=DATE-TIME:20220518T083000
DTSTAMP;VALUE=DATE-TIME:20260424T005817Z
UID:ec1e19b1d000f1002cc7002ef178d6d5
CREATED;VALUE=DATE-TIME:20220518T000000Z
CATEGORIES:Sortides
LOCATION:Centre Cultural de Can Lleonart - Plaça dels Germans Lleonart, 1 08328 Alella
ORGANIZER:Ajuntament d'Alella
COMMENT:Preu: 23 &euro;
Durada: 5 hores
URL:https://www.mynerva.net/ajalella/document.php?id=17036
END:VEVENT
END:VCALENDAR