BEGIN:VCALENDAR
VERSION:2.0
PRODID:-//Plone.org//NONSGML plone.app.event//EN
X-WR-TIMEZONE:Europe/Madrid
BEGIN:VEVENT
SUMMARY:Front comú als robatoris. Xerrada. Quines accions i mesures preventives podem aplicar?
DTSTART;TZID=Europe/Madrid;VALUE=DATE-TIME:20220517T190000
DTEND;TZID=Europe/Madrid;VALUE=DATE-TIME:20220517T200000
DTSTAMP;VALUE=DATE-TIME:20260423T213951Z
UID:428df59569d79fed5c8924bd8597a8fa
CREATED;VALUE=DATE-TIME:20220517T000000Z
CATEGORIES:Jornades
LOCATION:Sala Carquefou de l'Espai d'Arts Escèniques Casal d'Alella
ORGANIZER:Ajuntament d'Alella
URL:https://www.mynerva.net/ajalella/document.php?id=17076
END:VEVENT
END:VCALENDAR