BEGIN:VCALENDAR
VERSION:2.0
PRODID:-//Plone.org//NONSGML plone.app.event//EN
X-WR-TIMEZONE:Europe/Madrid
BEGIN:VEVENT
SUMMARY:AJORNAT. Brotar: Taller de creativitat i autoconeixement
DTSTART;TZID=Europe/Madrid;VALUE=DATE-TIME:20220514T100000
DTEND;TZID=Europe/Madrid;VALUE=DATE-TIME:20220514T110000
DTSTAMP;VALUE=DATE-TIME:20260423T212739Z
UID:e6707fbf75a89c9cda2ddedbf56ab0ff
CREATED;VALUE=DATE-TIME:20220514T000000Z
CATEGORIES:Joves
LOCATION:Espai Jove - Avinguda Ferran Fabra, 1 08328
ORGANIZER:Ajuntament d'Alella
COMMENT:Preu: 15&euro;
Durada: De 10h a 14h
DESCRIPTION:Dissabte 14 de maig de 10 a 14 h
URL:https://www.mynerva.net/ajalella/document.php?id=17091
END:VEVENT
END:VCALENDAR