BEGIN:VCALENDAR
VERSION:2.0
PRODID:-//Plone.org//NONSGML plone.app.event//EN
X-WR-TIMEZONE:Europe/Madrid
BEGIN:VEVENT
SUMMARY:Ioga & Aperitiu amb Saxfanmusic
DTSTART;TZID=Europe/Madrid;VALUE=DATE-TIME:20220403T103000
DTEND;TZID=Europe/Madrid;VALUE=DATE-TIME:20220403T113000
DTSTAMP;VALUE=DATE-TIME:20260423T183319Z
UID:70d64c3015eb9055f7c2862e87edbb7e
CREATED;VALUE=DATE-TIME:20220403T000000Z
CATEGORIES:Vi i gastronomia
LOCATION:Celler Alta Alella
ORGANIZER:Celler Alta Alella
COMMENT:Durada: 2 h 30 min
DESCRIPTION:Celler Alta Alella
URL:https://www.mynerva.net/ajalella/document.php?id=17142
END:VEVENT
END:VCALENDAR