BEGIN:VCALENDAR
VERSION:2.0
PRODID:-//Plone.org//NONSGML plone.app.event//EN
X-WR-TIMEZONE:Europe/Madrid
BEGIN:VEVENT
SUMMARY:Visita 4 Vins 4 Vinyes
DTSTART;TZID=Europe/Madrid;VALUE=DATE-TIME:20220417T110000
DTEND;TZID=Europe/Madrid;VALUE=DATE-TIME:20220417T120000
DTSTAMP;VALUE=DATE-TIME:20260423T183239Z
UID:82a6126ff831b312acdbe715c999c48d
CREATED;VALUE=DATE-TIME:20220417T000000Z
CATEGORIES:Vi i gastronomia
LOCATION:Celler Alta Alella
ORGANIZER:Celler Alta Alella
COMMENT:Durada: 2 h
DESCRIPTION:Celler Alta Alella
URL:https://www.mynerva.net/ajalella/document.php?id=17249
END:VEVENT
END:VCALENDAR