BEGIN:VCALENDAR
VERSION:2.0
PRODID:-//Plone.org//NONSGML plone.app.event//EN
X-WR-TIMEZONE:Europe/Madrid
BEGIN:VEVENT
SUMMARY:Cinema. Sonic 2
DTSTART;TZID=Europe/Madrid;VALUE=DATE-TIME:20220508T170000
DTEND;TZID=Europe/Madrid;VALUE=DATE-TIME:20220508T180000
DTSTAMP;VALUE=DATE-TIME:20260423T165641Z
UID:8b3f91f227e5e4a07e8a218a5157c63f
CREATED;VALUE=DATE-TIME:20220508T000000Z
CATEGORIES:Cinema,Familiars
LOCATION:Espai d'arts escèniques Casal d'Alella - Carrer de Santa Teresa, 9 08328 Alella
ORGANIZER:Ajuntament d'Alella
COMMENT:Preu: Feiners i Festius: 6,5    Dia de preu reduït: 4,50
Durada: Dissabte 7 de maig a les 16h i 18:15h / Diumenge 8 de maig a les 17h / Dilluns 9 de maig a les 17:45h
URL:https://www.mynerva.net/ajalella/document.php?id=17262
END:VEVENT
END:VCALENDAR