BEGIN:VCALENDAR
VERSION:2.0
PRODID:-//Plone.org//NONSGML plone.app.event//EN
X-WR-TIMEZONE:Europe/Madrid
BEGIN:VEVENT
SUMMARY:Cinema. Sonic 2
DTSTART;TZID=Europe/Madrid;VALUE=DATE-TIME:20220509T174500
DTEND;TZID=Europe/Madrid;VALUE=DATE-TIME:20220509T184500
DTSTAMP;VALUE=DATE-TIME:20260423T163740Z
UID:840fe48d9b8753d96794c9059ff87aec
CREATED;VALUE=DATE-TIME:20220509T000000Z
CATEGORIES:Cinema,Familiars
LOCATION:Espai d'arts escèniques Casal d'Alella - Carrer de Santa Teresa, 9 08328 Alella
ORGANIZER:Ajuntament d'Alella
COMMENT:Preu: Feiners i Festius: 6,5    Dia de preu reduït: 4,50
Durada: Dissabte 7 de maig a les 16h i 18:15h / Diumenge 8 de maig a les 17h / Dilluns 9 de maig a les 17:45h
URL:https://www.mynerva.net/ajalella/document.php?id=17263
END:VEVENT
END:VCALENDAR