BEGIN:VCALENDAR
VERSION:2.0
PRODID:-//Plone.org//NONSGML plone.app.event//EN
X-WR-TIMEZONE:Europe/Madrid
BEGIN:VEVENT
SUMMARY:Visita guiada al Centre Integral de Valorització de Residus del Maresme
DTSTART;TZID=Europe/Madrid;VALUE=DATE-TIME:20220514T103000
DTEND;TZID=Europe/Madrid;VALUE=DATE-TIME:20220514T113000
DTSTAMP;VALUE=DATE-TIME:20260423T212055Z
UID:f7e4014e399953248974fd0487f3f5b1
CREATED;VALUE=DATE-TIME:20220514T000000Z
CATEGORIES:Sortides
LOCATION:Carrer de la Teixidora, 83 (Mataró)
ORGANIZER:Ajuntament d'Alella
COMMENT:Preu: Gratuït
Durada: 10.30-13.00h
DESCRIPTION:Activitat inclosa al "Mou-te pels residus", la nova reducció de la taxa de la brossa
URL:https://www.mynerva.net/ajalella/document.php?id=17268
END:VEVENT
END:VCALENDAR