BEGIN:VCALENDAR
VERSION:2.0
PRODID:-//Plone.org//NONSGML plone.app.event//EN
X-WR-TIMEZONE:Europe/Madrid
BEGIN:VEVENT
SUMMARY:Caminada dels Tres Pobles
DTSTART;TZID=Europe/Madrid;VALUE=DATE-TIME:20220515T090000
DTEND;TZID=Europe/Madrid;VALUE=DATE-TIME:20220515T100000
DTSTAMP;VALUE=DATE-TIME:20260423T212646Z
UID:496e886b4ed33579ce1d3d6e1864a65c
CREATED;VALUE=DATE-TIME:20220515T000000Z
CATEGORIES:Sortides,Esports
LOCATION:El Bosquet
ORGANIZER:Ajuntaments d'Alella, el Masnou i Teià
URL:https://www.mynerva.net/ajalella/document.php?id=17307
END:VEVENT
END:VCALENDAR