BEGIN:VCALENDAR
VERSION:2.0
PRODID:-//Plone.org//NONSGML plone.app.event//EN
X-WR-TIMEZONE:Europe/Madrid
BEGIN:VEVENT
SUMMARY:Tertúlia en primera persona. Defensores de drets humans de Colòmbia
DTSTART;TZID=Europe/Madrid;VALUE=DATE-TIME:20220510T190000
DTEND;TZID=Europe/Madrid;VALUE=DATE-TIME:20220510T200000
DTSTAMP;VALUE=DATE-TIME:20260423T214013Z
UID:01e8e72bb404688de196129be16d6503
CREATED;VALUE=DATE-TIME:20220510T000000Z
CATEGORIES:Tertúlies
LOCATION:Espai d'arts escèniques Casal d'Alella - Carrer de Santa Teresa, 9 08328 Alella
ORGANIZER:Comissió de Cooperació Internacional de l'Ajuntament d'Alella
COMMENT:Preu: Gratuït
URL:https://www.mynerva.net/ajalella/document.php?id=17368
END:VEVENT
END:VCALENDAR