BEGIN:VCALENDAR
VERSION:2.0
PRODID:-//Plone.org//NONSGML plone.app.event//EN
X-WR-TIMEZONE:Europe/Madrid
BEGIN:VEVENT
SUMMARY:Scrabble en família
DTSTART;TZID=Europe/Madrid;VALUE=DATE-TIME:20220515T173000
DTEND;TZID=Europe/Madrid;VALUE=DATE-TIME:20220515T183000
DTSTAMP;VALUE=DATE-TIME:20260423T231801Z
UID:11c6e2fbc20c4f28d8f0201f9668b28b
CREATED;VALUE=DATE-TIME:20220515T000000Z
CATEGORIES:Jornades,Familiars,Joves
LOCATION:Associació Casal d'Alella. C. de Santa Madrona, 10. Alella (El Maresme)
ORGANIZER:Associació Casal d'Alella amb el suport de la Federació Internacional de Scrabble en català
COMMENT:Preu: Gratuït
Durada: de 17.30 a 19.30 h
DESCRIPTION:Per a totes les edats i els nivells
URL:https://www.mynerva.net/ajalella/document.php?id=17382
END:VEVENT
END:VCALENDAR