BEGIN:VCALENDAR
VERSION:2.0
PRODID:-//Plone.org//NONSGML plone.app.event//EN
X-WR-TIMEZONE:Europe/Madrid
BEGIN:VEVENT
SUMMARY:Telescopi James Webb
DTSTART;TZID=Europe/Madrid;VALUE=DATE-TIME:20220517T200000
DTEND;TZID=Europe/Madrid;VALUE=DATE-TIME:20220517T210000
DTSTAMP;VALUE=DATE-TIME:20260424T005539Z
UID:635de0345dffee66255914cf744e9865
CREATED;VALUE=DATE-TIME:20220517T000000Z
CATEGORIES:Tertúlies,Cursos,Joves
LOCATION:Casal d'Alella. C. de Santa Madrona, 10. Alella (El Maresme)
ORGANIZER:Agrupació d'Astronomia d'Alella amb el suport del Casal d'Alella
COMMENT:Preu: 3 euros. Gratuït per als socis del Casal d'Alella i de l'Agrupació d'Astronomia
Durada: de 20  a 21 h
DESCRIPTION:El telescopi més potent llançat mai a l'espai
URL:https://www.mynerva.net/ajalella/document.php?id=17383
END:VEVENT
END:VCALENDAR