BEGIN:VCALENDAR
VERSION:2.0
PRODID:-//Plone.org//NONSGML plone.app.event//EN
X-WR-TIMEZONE:Europe/Madrid
BEGIN:VEVENT
SUMMARY:Espais de Poesia. "Spectrum" de Marta Bisbal Torres
DTSTART;TZID=Europe/Madrid;VALUE=DATE-TIME:20220520T190000
DTEND;TZID=Europe/Madrid;VALUE=DATE-TIME:20220520T200000
DTSTAMP;VALUE=DATE-TIME:20260424T005230Z
UID:432402bdd1d6db767201a1a8d407cadc
CREATED;VALUE=DATE-TIME:20220520T000000Z
CATEGORIES:Exposició,Literatura,Festes i fires
LOCATION:Can Manyé. Espai d'art i creació - Riera Coma Fosca 42. 08328 Alella
ORGANIZER:Ajuntament d'Alella
COMMENT:Preu: Gratuït
DESCRIPTION:Inauguració festival, exposició i recital amb Vicenç Altaió, Anna Gual, Joan Navarro, Chantal Poch, Gabriel Ventura i Ester Xargay
URL:https://www.mynerva.net/ajalella/document.php?id=17384
END:VEVENT
END:VCALENDAR