BEGIN:VCALENDAR
VERSION:2.0
PRODID:-//Plone.org//NONSGML plone.app.event//EN
X-WR-TIMEZONE:Europe/Madrid
BEGIN:VEVENT
SUMMARY:Cinema. Alcarràs (en català)
DTSTART;TZID=Europe/Madrid;VALUE=DATE-TIME:20220515T184500
DTEND;TZID=Europe/Madrid;VALUE=DATE-TIME:20220515T194500
DTSTAMP;VALUE=DATE-TIME:20260423T231617Z
UID:5687e49e09ee13f7b9643f994d35914e
CREATED;VALUE=DATE-TIME:20220515T000000Z
CATEGORIES:Cinema
LOCATION:Espai d'arts escèniques Casal d'Alella - Carrer de Santa Teresa, 9 08328 Alella
ORGANIZER:Ajuntament d'Alella
COMMENT:Preu: Feiners i Festius: 6,5    Dia de preu reduït: 4,50
Durada: Dissabte 14 a les 19h / Diumenge 15 a les 18:45h / Dilluns 16 a les 18h i 20:15h
URL:https://www.mynerva.net/ajalella/document.php?id=17419
END:VEVENT
END:VCALENDAR