BEGIN:VCALENDAR
VERSION:2.0
PRODID:-//Plone.org//NONSGML plone.app.event//EN
X-WR-TIMEZONE:Europe/Madrid
BEGIN:VEVENT
SUMMARY:Assaig obert de Sardanes
DTSTART;TZID=Europe/Madrid;VALUE=DATE-TIME:20220514T110000
DTEND;TZID=Europe/Madrid;VALUE=DATE-TIME:20220514T120000
DTSTAMP;VALUE=DATE-TIME:20260423T165641Z
UID:fdb844f3e19d058558bb10ca8f7314bc
CREATED;VALUE=DATE-TIME:20220514T000000Z
CATEGORIES:Música
LOCATION:Plaça de l'Ajuntament - Plaça de l'Ajuntament, s/n. 08328 Alella
ORGANIZER:Agrupació Sardanista d'Alella
URL:https://www.mynerva.net/ajalella/document.php?id=17422
END:VEVENT
END:VCALENDAR