BEGIN:VCALENDAR
VERSION:2.0
PRODID:-//Plone.org//NONSGML plone.app.event//EN
X-WR-TIMEZONE:Europe/Madrid
BEGIN:VEVENT
SUMMARY:Cinema. La orquesta terrestre (En Català)
DTSTART;TZID=Europe/Madrid;VALUE=DATE-TIME:20220514T173000
DTEND;TZID=Europe/Madrid;VALUE=DATE-TIME:20220514T183000
DTSTAMP;VALUE=DATE-TIME:20260423T164459Z
UID:65914fc9d989634d426165ce75105766
CREATED;VALUE=DATE-TIME:20220514T000000Z
CATEGORIES:Cinema,Familiars
LOCATION:Espai d'arts escèniques Casal d'Alella - Carrer de Santa Teresa, 9 08328 Alella
ORGANIZER:Ajuntament d'Alella
COMMENT:Preu: Feiners i Festius: 6,5    Dia de preu reduït: 4,50
Durada: Dissabte 14 a les 17:30h/ Diumenge 15 a les 17:00h
URL:https://www.mynerva.net/ajalella/document.php?id=17425
END:VEVENT
END:VCALENDAR