BEGIN:VCALENDAR
VERSION:2.0
PRODID:-//Plone.org//NONSGML plone.app.event//EN
X-WR-TIMEZONE:Europe/Madrid
BEGIN:VEVENT
SUMMARY:X Trobada de Vehicles Antics I Clàssics d'Alella
DTSTART;TZID=Europe/Madrid;VALUE=DATE-TIME:20220515T090000
DTEND;TZID=Europe/Madrid;VALUE=DATE-TIME:20220515T100000
DTSTAMP;VALUE=DATE-TIME:20260423T213645Z
UID:c89cd55e06c12087a98a51b19b12d1e6
CREATED;VALUE=DATE-TIME:20220515T000000Z
CATEGORIES:Festes i fires
LOCATION:Aparcament de Can Lleonart i carrers del poble.
ORGANIZER:Associació de Vehicles Antics i Clàssics d'Alella
URL:https://www.mynerva.net/ajalella/document.php?id=17445
END:VEVENT
END:VCALENDAR