BEGIN:VCALENDAR
VERSION:2.0
PRODID:-//Plone.org//NONSGML plone.app.event//EN
X-WR-TIMEZONE:Europe/Madrid
BEGIN:VEVENT
SUMMARY:Visita especial: 4 vins, 4 vinyes
DTSTART;TZID=Europe/Madrid;VALUE=DATE-TIME:20220724T110000
DTEND;TZID=Europe/Madrid;VALUE=DATE-TIME:20220724T120000
DTSTAMP;VALUE=DATE-TIME:20260421T144540Z
UID:858fe89e96d02921258fd5156d40c7da
CREATED;VALUE=DATE-TIME:20220724T000000Z
CATEGORIES:Vi i gastronomia
LOCATION:Celler Alta Alella
ORGANIZER:Celler Alta Alella
COMMENT:Preu: 25 &#128; / persona
Durada: 2 h aproximadament
DESCRIPTION:Comprar entrada

URL:https://www.mynerva.net/ajalella/document.php?id=17656
END:VEVENT
END:VCALENDAR