BEGIN:VCALENDAR
VERSION:2.0
PRODID:-//Plone.org//NONSGML plone.app.event//EN
X-WR-TIMEZONE:Europe/Madrid
BEGIN:VEVENT
SUMMARY:Festa Holi
DTSTART;TZID=Europe/Madrid;VALUE=DATE-TIME:20220724T180000
DTEND;TZID=Europe/Madrid;VALUE=DATE-TIME:20220724T190000
DTSTAMP;VALUE=DATE-TIME:20260421T125758Z
UID:3a2a9db3537b727d8c770e57bb69510f
CREATED;VALUE=DATE-TIME:20220724T000000Z
CATEGORIES:Música,Festes i fires,Joves,Esports
LOCATION:Pavelló d'Esports Municipal Abelardo Vera - Passeig de la Creu de Pedra, 29-31. 08328 Alella
ORGANIZER:Ajuntament d'Alella
COMMENT:Preu: Gratuït
Durada: De 18 a 19h
DESCRIPTION:Fil·loxera 2022
URL:https://www.mynerva.net/ajalella/document.php?id=17760
END:VEVENT
END:VCALENDAR