BEGIN:VCALENDAR
VERSION:2.0
PRODID:-//Plone.org//NONSGML plone.app.event//EN
X-WR-TIMEZONE:Europe/Madrid
BEGIN:VEVENT
SUMMARY:Banc de sang
DTSTART;TZID=Europe/Madrid;VALUE=DATE-TIME:20220730T100000
DTEND;TZID=Europe/Madrid;VALUE=DATE-TIME:20220730T110000
DTSTAMP;VALUE=DATE-TIME:20260419T202558Z
UID:2807a94d9915f11161be7fddeb40e332
CREATED;VALUE=DATE-TIME:20220730T000000Z
CATEGORIES:Jornades
LOCATION:Antigues Escoles Fabra
ORGANIZER:Ajuntament d'Alella
COMMENT:Durada: De 10 a 14h i de 17 a 21h
URL:https://www.mynerva.net/ajalella/document.php?id=17806
END:VEVENT
END:VCALENDAR