BEGIN:VCALENDAR
VERSION:2.0
PRODID:-//Plone.org//NONSGML plone.app.event//EN
X-WR-TIMEZONE:Europe/Madrid
BEGIN:VEVENT
SUMMARY:Bus consum
DTSTART;TZID=Europe/Madrid;VALUE=DATE-TIME:20220805T103000
DTEND;TZID=Europe/Madrid;VALUE=DATE-TIME:20220805T113000
DTSTAMP;VALUE=DATE-TIME:20260421T173858Z
UID:d7d6ed798b71494ecd07d258401d87d7
CREATED;VALUE=DATE-TIME:20220805T000000Z
CATEGORIES:Jornades
LOCATION:Aparcament de Can Lleonart
ORGANIZER:Ajuntament d'Alella i Diputació de Barcelona
URL:https://www.mynerva.net/ajalella/document.php?id=17816
END:VEVENT
END:VCALENDAR