BEGIN:VCALENDAR
VERSION:2.0
PRODID:-//Plone.org//NONSGML plone.app.event//EN
X-WR-TIMEZONE:Europe/Madrid
BEGIN:VEVENT
SUMMARY:Festa Major. Pregó de Festa Major
DTSTART;TZID=Europe/Madrid;VALUE=DATE-TIME:20220728T190000
DTEND;TZID=Europe/Madrid;VALUE=DATE-TIME:20220728T200000
DTSTAMP;VALUE=DATE-TIME:20260421T213246Z
UID:e7e33d1f0903405be7c70d8ccf7da4b0
CREATED;VALUE=DATE-TIME:20220728T000000Z
CATEGORIES:Festes i fires
LOCATION:Plaça de l'Ajuntament - Plaça de l'Ajuntament, s/n. 08328 Alella
ORGANIZER:Ajuntament d'Alella
URL:https://www.mynerva.net/ajalella/document.php?id=17842
END:VEVENT
END:VCALENDAR