BEGIN:VCALENDAR
VERSION:2.0
PRODID:-//Plone.org//NONSGML plone.app.event//EN
X-WR-TIMEZONE:Europe/Madrid
BEGIN:VEVENT
SUMMARY:Festa Major. Espectacle itinerant "A la fresca"
DTSTART;TZID=Europe/Madrid;VALUE=DATE-TIME:20220728T203000
DTEND;TZID=Europe/Madrid;VALUE=DATE-TIME:20220728T213000
DTSTAMP;VALUE=DATE-TIME:20260421T144610Z
UID:2cf96d7251acb675041a8c6bb8b668ee
CREATED;VALUE=DATE-TIME:20220728T000000Z
CATEGORIES:Festes i fires,Familiars
LOCATION:Diferents espais del centre del poble
ORGANIZER:Ajuntament d'Alella
URL:https://www.mynerva.net/ajalella/document.php?id=17844
END:VEVENT
END:VCALENDAR