BEGIN:VCALENDAR
VERSION:2.0
PRODID:-//Plone.org//NONSGML plone.app.event//EN
X-WR-TIMEZONE:Europe/Madrid
BEGIN:VEVENT
SUMMARY:Festa Major. Fira-Mercat
DTSTART;TZID=Europe/Madrid;VALUE=DATE-TIME:20220731T100000
DTEND;TZID=Europe/Madrid;VALUE=DATE-TIME:20220731T110000
DTSTAMP;VALUE=DATE-TIME:20260421T160640Z
UID:0ed4c4aeb78c42965fde4e9658834e1c
CREATED;VALUE=DATE-TIME:20220731T000000Z
CATEGORIES:Festes i fires
LOCATION:Rambla d'Àngel Guimerà
ORGANIZER:Ajuntament d'Alella
COMMENT:Durada: Divendres de 17 a 22h, dissabte i diumenge de 10 a 22h
URL:https://www.mynerva.net/ajalella/document.php?id=17846
END:VEVENT
END:VCALENDAR