BEGIN:VCALENDAR
VERSION:2.0
PRODID:-//Plone.org//NONSGML plone.app.event//EN
X-WR-TIMEZONE:Europe/Madrid
BEGIN:VEVENT
SUMMARY:Festa Major. Fem un mural de Festa Major
DTSTART;TZID=Europe/Madrid;VALUE=DATE-TIME:20220729T180000
DTEND;TZID=Europe/Madrid;VALUE=DATE-TIME:20220729T190000
DTSTAMP;VALUE=DATE-TIME:20260419T181908Z
UID:5eb907a295a6cf5ccdf3e2a31d9bb1d0
CREATED;VALUE=DATE-TIME:20220729T000000Z
CATEGORIES:Festes i fires,Familiars
LOCATION:Centre Cultural de Can Lleonart - Plaça dels Germans Lleonart, 1 08328 Alella
ORGANIZER:Ajuntament d'Alella amb la col·laboració de l'Associació Dones Solidàries d'Alella
URL:https://www.mynerva.net/ajalella/document.php?id=17848
END:VEVENT
END:VCALENDAR