BEGIN:VCALENDAR
VERSION:2.0
PRODID:-//Plone.org//NONSGML plone.app.event//EN
X-WR-TIMEZONE:Europe/Madrid
BEGIN:VEVENT
SUMMARY:Festa Major. Espai Gastroneta
DTSTART;TZID=Europe/Madrid;VALUE=DATE-TIME:20220729T200000
DTEND;TZID=Europe/Madrid;VALUE=DATE-TIME:20220729T210000
DTSTAMP;VALUE=DATE-TIME:20260419T182224Z
UID:483d83e97e08ac087c80d77127cabad2
CREATED;VALUE=DATE-TIME:20220729T000000Z
CATEGORIES:Festes i fires,Vi i gastronomia
LOCATION:Hort de la Rectoria
ORGANIZER:Ajuntament d'Alella
COMMENT:Durada: Divendres de 20 a 24h, dissabte de 19 a 24h o diumenge de 19 a 24h
URL:https://www.mynerva.net/ajalella/document.php?id=17850
END:VEVENT
END:VCALENDAR