BEGIN:VCALENDAR
VERSION:2.0
PRODID:-//Plone.org//NONSGML plone.app.event//EN
X-WR-TIMEZONE:Europe/Madrid
BEGIN:VEVENT
SUMMARY:Festa Major. Concert amb La Kozmic Band
DTSTART;TZID=Europe/Madrid;VALUE=DATE-TIME:20220729T210000
DTEND;TZID=Europe/Madrid;VALUE=DATE-TIME:20220729T220000
DTSTAMP;VALUE=DATE-TIME:20260419T182057Z
UID:e9a13fd9c1eb3298e0ba6637d46436d6
CREATED;VALUE=DATE-TIME:20220729T000000Z
CATEGORIES:Música,Festes i fires
LOCATION:Hort de la Rectoria
ORGANIZER:Ajuntament d'Alella
URL:https://www.mynerva.net/ajalella/document.php?id=17853
END:VEVENT
END:VCALENDAR