BEGIN:VCALENDAR
VERSION:2.0
PRODID:-//Plone.org//NONSGML plone.app.event//EN
X-WR-TIMEZONE:Europe/Madrid
BEGIN:VEVENT
SUMMARY:Festa Major. Correfoc amb els Diables del Vi d'Alella
DTSTART;TZID=Europe/Madrid;VALUE=DATE-TIME:20220729T223000
DTEND;TZID=Europe/Madrid;VALUE=DATE-TIME:20220729T233000
DTSTAMP;VALUE=DATE-TIME:20260419T195158Z
UID:faad595277a876fe2cc437c6417fdcbe
CREATED;VALUE=DATE-TIME:20220729T000000Z
CATEGORIES:Festes i fires
LOCATION:Inici. Carrer Les Heures
ORGANIZER:Ajuntament d'Alella
URL:https://www.mynerva.net/ajalella/document.php?id=17854
END:VEVENT
END:VCALENDAR