BEGIN:VCALENDAR
VERSION:2.0
PRODID:-//Plone.org//NONSGML plone.app.event//EN
X-WR-TIMEZONE:Europe/Madrid
BEGIN:VEVENT
SUMMARY:Festa Major. 2a Cursa de la Pera
DTSTART;TZID=Europe/Madrid;VALUE=DATE-TIME:20220730T090000
DTEND;TZID=Europe/Madrid;VALUE=DATE-TIME:20220730T100000
DTSTAMP;VALUE=DATE-TIME:20260419T215907Z
UID:ab3de4895176c70752dbfd9011049244
CREATED;VALUE=DATE-TIME:20220730T000000Z
CATEGORIES:Festes i fires,Esports
LOCATION:Pistes d'Atletisme - Cami del Mig, 31. 08328 Alella
ORGANIZER:Ajuntament d'Alella
URL:https://www.mynerva.net/ajalella/document.php?id=17856
END:VEVENT
END:VCALENDAR