BEGIN:VCALENDAR
VERSION:2.0
PRODID:-//Plone.org//NONSGML plone.app.event//EN
X-WR-TIMEZONE:Europe/Madrid
BEGIN:VEVENT
SUMMARY:Festa Major. 25è Concurs de Dibuix Infantil
DTSTART;TZID=Europe/Madrid;VALUE=DATE-TIME:20220730T090000
DTEND;TZID=Europe/Madrid;VALUE=DATE-TIME:20220730T100000
DTSTAMP;VALUE=DATE-TIME:20260419T150541Z
UID:19c2865a3fd73ec8c9de04de76e9b32a
CREATED;VALUE=DATE-TIME:20220730T000000Z
CATEGORIES:Festes i fires,Familiars
LOCATION:Plaça de l'Ajuntament, davant del local de l'Associació de Dones Montserrat Roig
ORGANIZER:Associació de Dones Montserrat Roig
URL:https://www.mynerva.net/ajalella/document.php?id=17858
END:VEVENT
END:VCALENDAR