BEGIN:VCALENDAR
VERSION:2.0
PRODID:-//Plone.org//NONSGML plone.app.event//EN
X-WR-TIMEZONE:Europe/Madrid
BEGIN:VEVENT
SUMMARY:Festa Major. Activitats aquàtiques
DTSTART;TZID=Europe/Madrid;VALUE=DATE-TIME:20220730T110000
DTEND;TZID=Europe/Madrid;VALUE=DATE-TIME:20220730T120000
DTSTAMP;VALUE=DATE-TIME:20260419T202157Z
UID:40e53f39d4c255b3a7964448aa32044c
CREATED;VALUE=DATE-TIME:20220730T000000Z
CATEGORIES:Festes i fires,Familiars
LOCATION:Carrer Àfrica
ORGANIZER:Ajuntament d'Alella
URL:https://www.mynerva.net/ajalella/document.php?id=17859
END:VEVENT
END:VCALENDAR