BEGIN:VCALENDAR
VERSION:2.0
PRODID:-//Plone.org//NONSGML plone.app.event//EN
X-WR-TIMEZONE:Europe/Madrid
BEGIN:VEVENT
SUMMARY:Festa Major. 21a Guerra guarra i remullada
DTSTART;TZID=Europe/Madrid;VALUE=DATE-TIME:20220730T130000
DTEND;TZID=Europe/Madrid;VALUE=DATE-TIME:20220730T140000
DTSTAMP;VALUE=DATE-TIME:20260419T202004Z
UID:8d1b95dceba31a96ce39b74858caef97
CREATED;VALUE=DATE-TIME:20220730T000000Z
CATEGORIES:Festes i fires,Familiars
LOCATION:Riera Principal
ORGANIZER:Esplai Guaita'l
URL:https://www.mynerva.net/ajalella/document.php?id=17860
END:VEVENT
END:VCALENDAR