BEGIN:VCALENDAR
VERSION:2.0
PRODID:-//Plone.org//NONSGML plone.app.event//EN
X-WR-TIMEZONE:Europe/Madrid
BEGIN:VEVENT
SUMMARY:Festa Major. Juga menut!
DTSTART;TZID=Europe/Madrid;VALUE=DATE-TIME:20220730T180000
DTEND;TZID=Europe/Madrid;VALUE=DATE-TIME:20220730T190000
DTSTAMP;VALUE=DATE-TIME:20260419T220015Z
UID:6b1e9e1a30839a01b2d8e4381a6d858c
CREATED;VALUE=DATE-TIME:20220730T000000Z
CATEGORIES:Festes i fires,Familiars
LOCATION:Centre Cultural de Can Lleonart - Plaça dels Germans Lleonart, 1 08328 Alella
ORGANIZER:Ajuntament d'Alella
URL:https://www.mynerva.net/ajalella/document.php?id=17861
END:VEVENT
END:VCALENDAR