BEGIN:VCALENDAR
VERSION:2.0
PRODID:-//Plone.org//NONSGML plone.app.event//EN
X-WR-TIMEZONE:Europe/Madrid
BEGIN:VEVENT
SUMMARY:Festa Major. Reggae per Xics
DTSTART;TZID=Europe/Madrid;VALUE=DATE-TIME:20220730T190000
DTEND;TZID=Europe/Madrid;VALUE=DATE-TIME:20220730T200000
DTSTAMP;VALUE=DATE-TIME:20260421T144635Z
UID:498d035e93d7d4d8a11cc77ba2ed070a
CREATED;VALUE=DATE-TIME:20220730T000000Z
CATEGORIES:Festes i fires,Familiars
LOCATION:Hort de la Rectoria
ORGANIZER:Ajuntament d'Alella
URL:https://www.mynerva.net/ajalella/document.php?id=17863
END:VEVENT
END:VCALENDAR