BEGIN:VCALENDAR
VERSION:2.0
PRODID:-//Plone.org//NONSGML plone.app.event//EN
X-WR-TIMEZONE:Europe/Madrid
BEGIN:VEVENT
SUMMARY:Festa Major. Nit de swing
DTSTART;TZID=Europe/Madrid;VALUE=DATE-TIME:20220730T220000
DTEND;TZID=Europe/Madrid;VALUE=DATE-TIME:20220730T230000
DTSTAMP;VALUE=DATE-TIME:20260421T125758Z
UID:dbc3d5fccf43baf967f6db7ba2873c6b
CREATED;VALUE=DATE-TIME:20220730T000000Z
CATEGORIES:Música,Festes i fires
LOCATION:Hort de la Rectoria
ORGANIZER:Ajuntament d'Alella
URL:https://www.mynerva.net/ajalella/document.php?id=17866
END:VEVENT
END:VCALENDAR