BEGIN:VCALENDAR
VERSION:2.0
PRODID:-//Plone.org//NONSGML plone.app.event//EN
X-WR-TIMEZONE:Europe/Madrid
BEGIN:VEVENT
SUMMARY:Festa Major. Los 80 Principales
DTSTART;TZID=Europe/Madrid;VALUE=DATE-TIME:20220730T233000
DTEND;TZID=Europe/Madrid;VALUE=DATE-TIME:20220731T003000
DTSTAMP;VALUE=DATE-TIME:20260421T162729Z
UID:512094b30c7fc7bbbc2862da19e17f18
CREATED;VALUE=DATE-TIME:20220730T000000Z
CATEGORIES:Música,Festes i fires
LOCATION:Hort de la Rectoria
ORGANIZER:Ajuntament d'Alella
URL:https://www.mynerva.net/ajalella/document.php?id=17867
END:VEVENT
END:VCALENDAR