BEGIN:VCALENDAR
VERSION:2.0
PRODID:-//Plone.org//NONSGML plone.app.event//EN
X-WR-TIMEZONE:Europe/Madrid
BEGIN:VEVENT
SUMMARY:Festa Major. Cercavila
DTSTART;TZID=Europe/Madrid;VALUE=DATE-TIME:20220731T180000
DTEND;TZID=Europe/Madrid;VALUE=DATE-TIME:20220731T190000
DTSTAMP;VALUE=DATE-TIME:20260421T112708Z
UID:49790d5a13845c3f35336236be5117af
CREATED;VALUE=DATE-TIME:20220731T000000Z
CATEGORIES:Festes i fires,Familiars
LOCATION:Espai d'Arts Escèniques Casal d'Alella
ORGANIZER:Ajuntament d'Alella
URL:https://www.mynerva.net/ajalella/document.php?id=17871
END:VEVENT
END:VCALENDAR