BEGIN:VCALENDAR
VERSION:2.0
PRODID:-//Plone.org//NONSGML plone.app.event//EN
X-WR-TIMEZONE:Europe/Madrid
BEGIN:VEVENT
SUMMARY:Festa Major. Havaneres amb les Anxovetes
DTSTART;TZID=Europe/Madrid;VALUE=DATE-TIME:20220731T203000
DTEND;TZID=Europe/Madrid;VALUE=DATE-TIME:20220731T213000
DTSTAMP;VALUE=DATE-TIME:20260421T112714Z
UID:da0f1a66b2553abcec58e2bc966352c4
CREATED;VALUE=DATE-TIME:20220731T000000Z
CATEGORIES:Música,Festes i fires
LOCATION:Hort de la Rectoria
ORGANIZER:Ajuntament d'Alella
URL:https://www.mynerva.net/ajalella/document.php?id=17875
END:VEVENT
END:VCALENDAR