BEGIN:VCALENDAR
VERSION:2.0
PRODID:-//Plone.org//NONSGML plone.app.event//EN
X-WR-TIMEZONE:Europe/Madrid
BEGIN:VEVENT
SUMMARY:Festa Major. De Mortimers
DTSTART;TZID=Europe/Madrid;VALUE=DATE-TIME:20220731T233000
DTEND;TZID=Europe/Madrid;VALUE=DATE-TIME:20220801T003000
DTSTAMP;VALUE=DATE-TIME:20260421T125638Z
UID:51112e08d377e06cb4186da374119771
CREATED;VALUE=DATE-TIME:20220731T000000Z
CATEGORIES:Música,Festes i fires
LOCATION:Hort de la Rectoria
ORGANIZER:Ajuntament d'Alella
URL:https://www.mynerva.net/ajalella/document.php?id=17877
END:VEVENT
END:VCALENDAR