BEGIN:VCALENDAR
VERSION:2.0
PRODID:-//Plone.org//NONSGML plone.app.event//EN
X-WR-TIMEZONE:Europe/Madrid
BEGIN:VEVENT
SUMMARY:Festa Major. Splash Slide
DTSTART;TZID=Europe/Madrid;VALUE=DATE-TIME:20220801T110000
DTEND;TZID=Europe/Madrid;VALUE=DATE-TIME:20220801T120000
DTSTAMP;VALUE=DATE-TIME:20260421T125725Z
UID:3e64147c49256dc6856a96978afdabaa
CREATED;VALUE=DATE-TIME:20220801T000000Z
CATEGORIES:Festes i fires,Familiars
LOCATION:Carrer La Vinya
ORGANIZER:Ajuntament d'Alella
URL:https://www.mynerva.net/ajalella/document.php?id=17878
END:VEVENT
END:VCALENDAR