BEGIN:VCALENDAR
VERSION:2.0
PRODID:-//Plone.org//NONSGML plone.app.event//EN
X-WR-TIMEZONE:Europe/Madrid
BEGIN:VEVENT
SUMMARY:Festa Major. Concert amb l'Orquestra Maravella
DTSTART;TZID=Europe/Madrid;VALUE=DATE-TIME:20220801T190000
DTEND;TZID=Europe/Madrid;VALUE=DATE-TIME:20220801T200000
DTSTAMP;VALUE=DATE-TIME:20260421T112959Z
UID:f4b9b0569dd440118f326a62f00444c3
CREATED;VALUE=DATE-TIME:20220801T000000Z
CATEGORIES:Música,Festes i fires
LOCATION:Hort de la Rectoria
ORGANIZER:Ajuntament d'Alella
URL:https://www.mynerva.net/ajalella/document.php?id=17881
END:VEVENT
END:VCALENDAR