BEGIN:VCALENDAR
VERSION:2.0
PRODID:-//Plone.org//NONSGML plone.app.event//EN
X-WR-TIMEZONE:Europe/Madrid
BEGIN:VEVENT
SUMMARY:Festa Major. Cercavila amb els Trabucaires del Vi d'Alella
DTSTART;TZID=Europe/Madrid;VALUE=DATE-TIME:20220801T223000
DTEND;TZID=Europe/Madrid;VALUE=DATE-TIME:20220801T233000
DTSTAMP;VALUE=DATE-TIME:20260421T114058Z
UID:d6bdb9ebb87520d32a836925ebe61829
CREATED;VALUE=DATE-TIME:20220801T000000Z
CATEGORIES:Festes i fires
LOCATION:Plaça de l'Ajuntament
ORGANIZER:Ajuntament d'Alella
URL:https://www.mynerva.net/ajalella/document.php?id=17884
END:VEVENT
END:VCALENDAR