BEGIN:VCALENDAR
VERSION:2.0
PRODID:-//Plone.org//NONSGML plone.app.event//EN
X-WR-TIMEZONE:Europe/Madrid
BEGIN:VEVENT
SUMMARY:Festa Major. Castell de Focs
DTSTART;TZID=Europe/Madrid;VALUE=DATE-TIME:20220802T010000
DTEND;TZID=Europe/Madrid;VALUE=DATE-TIME:20220802T020000
DTSTAMP;VALUE=DATE-TIME:20260421T112916Z
UID:484edc8350328f46daa76c47748220ee
CREATED;VALUE=DATE-TIME:20220802T000000Z
CATEGORIES:Festes i fires
LOCATION:Plaça de l'Ajuntament
ORGANIZER:Ajuntament d'Alella
URL:https://www.mynerva.net/ajalella/document.php?id=17885
END:VEVENT
END:VCALENDAR