BEGIN:VCALENDAR
VERSION:2.0
PRODID:-//Plone.org//NONSGML plone.app.event//EN
X-WR-TIMEZONE:Europe/Madrid
BEGIN:VEVENT
SUMMARY:Club de lectura. El vincle més fort, de Kent Haruf
DTSTART;TZID=Europe/Madrid;VALUE=DATE-TIME:20220908T200000
DTEND;TZID=Europe/Madrid;VALUE=DATE-TIME:20220908T210000
DTSTAMP;VALUE=DATE-TIME:20260419T185621Z
UID:5529c5b3da7f07e1e46188e958fb66ae
CREATED;VALUE=DATE-TIME:20220908T000000Z
CATEGORIES:Literatura
LOCATION:Biblioteca Municipal Ferrer i Guàrdia - Hort de la Rectoria. 08328 Alella
ORGANIZER:Ajuntament d'Alella
COMMENT:Preu: Gratuït
URL:https://www.mynerva.net/ajalella/document.php?id=17891
END:VEVENT
END:VCALENDAR