BEGIN:VCALENDAR
VERSION:2.0
PRODID:-//Plone.org//NONSGML plone.app.event//EN
X-WR-TIMEZONE:Europe/Madrid
BEGIN:VEVENT
SUMMARY:Presentació del llibre i inauguració de l'exposició Un país a la copa. Alella, el vi humà 
DTSTART;TZID=Europe/Madrid;VALUE=DATE-TIME:20220908T193000
DTEND;TZID=Europe/Madrid;VALUE=DATE-TIME:20220908T203000
DTSTAMP;VALUE=DATE-TIME:20260419T190225Z
UID:482407794584f0164636b89cd8fd2028
CREATED;VALUE=DATE-TIME:20220908T000000Z
CATEGORIES:Exposició,Literatura,Festes i fires
LOCATION:Centre Cultural de Can Lleonart - Plaça dels Germans Lleonart, 1 08328 Alella
ORGANIZER:Ajuntament d'Alella
URL:https://www.mynerva.net/ajalella/document.php?id=17913
END:VEVENT
END:VCALENDAR