BEGIN:VCALENDAR
VERSION:2.0
PRODID:-//Plone.org//NONSGML plone.app.event//EN
X-WR-TIMEZONE:Europe/Madrid
BEGIN:VEVENT
SUMMARY:Visita guiada celler Quim Batlle
DTSTART;TZID=Europe/Madrid;VALUE=DATE-TIME:20220917T100000
DTEND;TZID=Europe/Madrid;VALUE=DATE-TIME:20220917T110000
DTSTAMP;VALUE=DATE-TIME:20260419T163442Z
UID:293d072cda01e42e69b29d323f812a0a
CREATED;VALUE=DATE-TIME:20220917T000000Z
CATEGORIES:Sortides,Festes i fires,Vi i gastronomia
LOCATION:Celler Quim Batlle
ORGANIZER:Ajuntament d'Alella
URL:https://www.mynerva.net/ajalella/document.php?id=17983
END:VEVENT
END:VCALENDAR